Workbook

Sheet Odvodnenie
A1: Č. | B1: KCN | C1: Kód položky | D1: Popis | E1: MJ | F1: Množstvo ZoD | G1: realizovaná - realna výmera | H1: Cena jednotková | I1: Cena jednotková dodatku č.1 | J1: Cena celkom [EUR] množstvo ZoD | K1: Cena celkom [EUR] reálna výmera
A2: 1 | B2: 2 | C2: 3 | D2: 4 | E2: 5 | G2: 6 | H2: 7 | J2: 8
C3: HSV | D3: Práce a dodávky HSV | J3: =J4+J21+J23+J46 -> 26340.941 | K3: =K4+K21+K23+K46 -> 51970.66
C4: 1 | D4: Zemné práce | J4: =SUM(J5:J20) -> 6437.4 | K4: =SUM(K5:K20) -> 47590.91
A5: 1 | B5: R | C5: 132201109 | D5: Príplatok k cene za lepivosť pri hĺbení rýh šírky do 600 mm zapažených i nezapažených s urovnaním dna v hornine 3 | E5: m3 | F5: 311 | G5: 0 | H5: 0.4 | I5: 0.4 | J5: =F5*H5 -> 124.4 | K5: =G5*I5 -> 0 | L5: =K5-J5 -> -124.4
A6: 2 | B6: 001 | C6: 132201202.S | D6: Výkop ryhy šírky 600-2000mm horn.3 od 100 do 1000 m3 | E6: m3 | F6: 311 | G6: 0 | H6: 3 | I6: 3 | J6: =F6*H6 -> 933 | K6: =G6*I6 -> 0 | L6: =K6-J6 -> -933
A7: 3 | B7: 001 | C7: 151101101 | D7: Paženie a rozopretie stien rýh pre podzemné vedenie, príložné do 2 m | E7: m2 | F7: 120 | G7: 0 | H7: 0.25 | I7: 0.25 | J7: =F7*H7 -> 30 | K7: =G7*I7 -> 0 | L7: =K7-J7 -> -30
A8: 4 | B8: 001 | C8: 151101111 | D8: Odstránenie paženia rýh pre podzemné vedenie, príložné hĺbky do 2 m | E8: m2 | F8: 120 | G8: 0 | H8: 0.1 | I8: 0.1 | J8: =F8*H8 -> 12 | K8: =G8*I8 -> 0 | L8: =K8-J8 -> -12
C9: 132211101 | D9: Hĺbenie rýh šírky do 600 mm v hornine tr.3 súdržných - ručným náradím ,, 58x0,65x1,15D ,, 12x0,65x1,25D ,, 52x0,6x1Z ,, 17x0,65x1,15D,, 24x1,15x0,65D ,, 18x0,65x1,15D ,, | E9: m3 | F9: 0 | G9: 125.9 | H9: 88.25 | I9: 88.25 | J9: =F9*H9 -> 0 | K9: =G9*I9 -> 11110.675 | L9: =K9-J9 -> 11110.675
C10: 162201102 | D10: Vodorovné premiestnenie výkopku z horniny 1-4 nad 20-50m ,,real 0 až 80m ručne , 85% výkopov - ostatné je zaustovacie ryhy a čast tribuny | E10: m3 | F10: 0 | G10: 105.9 | H10: 44.5 | I10: 44.5 | J10: =F10*H10 -> 0 | K10: =G10*I10 -> 4712.55 | L10: =K10-J10 -> 4712.55
C11: 174101102 | D11: Zásyp sypaninou v uzavretých priestoroch s urovnaním povrchu zásypu ,, ručne svah 22x3,7x3,5/2 | E11: m3 | F11: 0 | G11: 120.35 | H11: 35.25 | I11: 35.25 | J11: =F11*H11 -> 0 | K11: =G11*I11 -> 4242.3375 | L11: =K11-J11 -> 4242.3375
A12: 5 | B12: 001 | C12: 161101501 | D12: Zvislé premiestnenie výkopku z horniny I až IV, nosením za každé 3 m výšky ,,ryhy + čast tribuna 216,79x2 ručne | E12: m3 | F12: 311 | G12: 0 | H12: 8 | I12: 8 | J12: =F12*H12 -> 2488 | K12: =G12*I12 -> 0 | L12: =K12-J12 -> -2488
A13: 6 | B13: 001 | C13: 162201102 | D13: Vodorovné premiestnenie výkopku z horniny 1-4 nad 20-50m | E13: m3 | F13: 311 | G13: 0 | H13: 0.5 | I13: 0.5 | J13: =F13*H13 -> 155.5 | K13: =G13*I13 -> 0 | L13: =K13-J13 -> -155.5
A14: 7 | B14: 001 | C14: 174201102 | D14: Zásyp sypaninou bez zhutnenia jám, šachiet, rýh, zárezov alebo okolo objektov nad 100 do 1000 m3 ,, zaústovacia ryha | E14: m3 | F14: 98 | G14: 0 | H14: 0.25 | I14: 0.25 | J14: =F14*H14 -> 24.5 | K14: =G14*I14 -> 0 | L14: =K14-J14 -> -24.5
A15: 8 | B15: 001 | C15: 175101101 | D15: Obsyp potrubia sypaninou z vhodných hornín 1 až 4 bez prehodenia sypaniny | E15: m3 | F15: 53 | G15: 0 | H15: 15 | I15: 15 | J15: =F15*H15 -> 795 | K15: =G15*I15 -> 0 | L15: =K15-J15 -> -795
A16: 9 | C16: Info cena 1 | D16: Štrkopiesok obsyp 0-16 | E16: m3 | F16: 53 | G16: 0 | H16: 35 | I16: 35 | J16: =F16*H16 -> 1855 | K16: =G16*I16 -> 0 | L16: =K16-J16 -> -1855
C17: 211561111 | D17: Výplň odvodňovacieho rebra alebo trativodu do rýh kamenivom hrubým drveným frakcie 16-32 mm,, | E17: m3 | F17: 0 | G17: 44.38 | H17: 215 | I17: 215 | J17: =F17*H17 -> 0 | K17: =G17*I17 -> 9541.7 | L17: =K17-J17 -> 9541.7
C18: 212755117 | D18: Trativod z drenážnych rúrok bez lôžka, vnútorného priem. rúrok 180 mm, vrátane obalenia geotextíliou | E18: m | F18: 0 | G18: 46.81 | H18: 300 | I18: 300 | J18: =F18*H18 -> 0 | K18: =G18*I18 -> 14043 | L18: =K18-J18 -> 14043
C19: 311272011.S | D19: Murivo nosné (m3) z betónových debniacich tvárnic s betónovou výplňou C 16/20 hrúbky 150 mm ,, 25x1x0,15 ,, 24x0,75x0,15 ,, 3x2x0,15x2 | E19: m3 | F19: 0 | G19: 8.03 | H19: 488.25 | I19: 488.25 | J19: =F19*H19 -> 0 | K19: =G19*I19 -> 3920.6475 | L19: =K19-J19 -> 3920.6475
A20: 10 | B20: 001 | C20: 5 | D20: Dočasné zaistenie káblov a káblových tratí do 6 káblov | E20: m | F20: 20 | G20: 20 | H20: 1 | I20: 1 | J20: =F20*H20 -> 20 | K20: =G20*I20 -> 20
C21: 4 | D21: Vodorovné konštrukcie | J21: =SUM(J22) -> 796.5 | K21: =SUM(K22) -> 1194.75
A22: 11 | B22: 271 | C22: 451541111 | D22: Lôžko pod potrubie, stoky a drobné objekty, v otvorenom výkope z piesku 0-63 mm | E22: m3 | F22: 18 | G22: 27 | H22: 44.25 | I22: 44.25 | J22: =F22*H22 -> 796.5 | K22: =G22*I22 -> 1194.75 | L22: =K22-J22 -> 398.25
C23: 8 | D23: Rúrové vedenie | J23: =SUM(J24:J45) -> 18939.098 | K23: =SUM(K24:K45) -> 3110
A24: 12 | B24: 271 | C24: 871324004 | D24: Montáž kanalizačného PP potrubia hladkého plnostenného SN 10 DN 160 | E24: m | F24: 45 | G24: 50 | H24: 10 | I24: 10 | J24: =F24*H24 -> 450 | K24: =G24*I24 -> 500 | L24: =K24-J24 -> 50
A25: 13 | B25: 286 | C25: 286140001200 | D25: Rúra KG 2000 PP, SN 10, DN 160 dĺ. 5 m hladká pre gravitačnú kanalizáciu, WAVIN | E25: ks | F25: 9 | G25: 10 | H25: 12 | I25: 12 | J25: =F25*H25 -> 108 | K25: =G25*I25 -> 120 | L25: =K25-J25 -> 12
A26: 14 | B26: 271 | C26: 871324004 | D26: Montáž kanalizačného PVC potrubia drenážneho DN 160 | E26: m | F26: 62 | G26: 0 | H26: 38 | I26: 38 | J26: =F26*H26 -> 2356 | K26: =G26*I26 -> 0 | L26: =K26-J26 -> -2356
A27: 15 | B27: 286 | C27: 286110012000 | D27: Rúra kanalizačná drenážna D 160x3,2 mm, dĺ. 1 m | E27: ks | F27: 62 | G27: 0 | H27: 38.55 | I27: 38.55 | J27: =F27*H27 -> 2390.1 | K27: =G27*I27 -> 0 | L27: =K27-J27 -> -2390.1
A28: 16 | B28: 271 | C28: 871354006 | D28: Montáž kanalizačného PP potrubia hladkého plnostenného SN 10 DN 200 | E28: m | F28: 85 | G28: 0 | H28: 25 | I28: 25 | J28: =F28*H28 -> 2125 | K28: =G28*I28 -> 0 | L28: =K28-J28 -> -2125
A29: 17 | B29: 286 | C29: 286140001600 | D29: Rúra KG 2000 PP, SN 10, DN 200 dĺ. 5 m hladká pre gravitačnú kanalizáciu, WAVIN | E29: ks | F29: 17 | G29: 0 | H29: 75 | I29: 75 | J29: =F29*H29 -> 1275 | K29: =G29*I29 -> 0 | L29: =K29-J29 -> -1275
A30: 18 | B30: 271 | C30: 892311000 | D30: Skúška tesnosti kanalizácie D 160 | E30: m | F30: 45 | G30: =G26+G24 -> 50 | H30: 1 | I30: 1 | J30: =F30*H30 -> 45 | K30: =G30*I30 -> 50 | L30: =K30-J30 -> 5
A31: 19 | B31: 271 | C31: 892351000 | D31: Skúška tesnosti kanalizácie D 220 | E31: m | F31: 85 | G31: 0 | H31: 1 | I31: 1 | J31: =F31*H31 -> 85 | K31: =G31*I31 -> 0 | L31: =K31-J31 -> -85
A32: 20 | B32: 271 | C32: 894401111 | D32: Osadenie betónového dielca pre šachty, rovná alebo prechodová skruž TBS | E32: ks | F32: 20 | G32: 0 | H32: 12 | I32: 12 | J32: =F32*H32 -> 240 | K32: =G32*I32 -> 0 | L32: =K32-J32 -> -240
A33: 21 | B33: 271 | C33: 899104111 | D33: Osadenie a dodávka poklopu liatinového a oceľového vrátane rámu hmotn. nad 150 kg+dodávka | E33: ks | F33: 3 | G33: 0 | H33: 10 | I33: 10 | J33: =F33*H33 -> 30 | K33: =G33*I33 -> 0 | L33: =K33-J33 -> -30
A34: 22 | B34: 271 | C34: Info cena 2 | D34: Dodávka a montáž geotextílie | E34: m2 | F34: 240 | G34: 240 | H34: 1 | I34: 1 | J34: =F34*H34 -> 240 | K34: =G34*I34 -> 240
A35: 23 | B35: 271 | C35: Info cena 3 | D35: Doprava šachiet | E35: ks | F35: 4 | G35: 0 | H35: 1 | I35: 1 | J35: =F35*H35 -> 4 | K35: =G35*I35 -> 0 | L35: =K35-J35 -> -4
A36: 24 | B36: 271 | C36: Info cena 4 | D36: Plastová drenážna šachta DN 300+ocelový poklop DN 300 | E36: ks | F36: 2 | G36: 0 | H36: 22 | I36: 22 | J36: =F36*H36 -> 44 | K36: =G36*I36 -> 0 | L36: =K36-J36 -> -44
A37: 25 | B37: 271 | C37: MATERIAL 2 | D37: SKRUŽE KONUS 625 | E37: ks | F37: 4 | G37: 0 | H37: 11 | I37: 11 | J37: =F37*H37 -> 44 | K37: =G37*I37 -> 0 | L37: =K37-J37 -> -44
A38: 26 | B38: 271 | C38: MATERIAL 3 | D38: Šachtové dno DN 1000 | E38: ks | F38: 4 | G38: 0 | H38: 41 | I38: 41 | J38: =F38*H38 -> 164 | K38: =G38*I38 -> 0 | L38: =K38-J38 -> -164
A39: 27 | B39: 271 | C39: MATERIAL 33 | D39: Vyrovnávací prstenec 625/60,80,100mm | E39: ks | F39: 3 | G39: 0 | H39: 8 | I39: 8 | J39: =F39*H39 -> 24 | K39: =G39*I39 -> 0 | L39: =K39-J39 -> -24
A40: 28 | B40: 271 | C40: MATERIAL 8.2 | D40: ŠACHTOVÁ SKRUŽ 1000/500 | E40: ks | F40: 1 | G40: 0 | H40: 22 | I40: 22 | J40: =F40*H40 -> 22 | K40: =G40*I40 -> 0 | L40: =K40-J40 -> -22
...

Sheet Ihrisko
C2: Rekonštrukcia multifunkčného ihriska - Ladzianska ulica
A3: PČ | B3: Typ | C3: Kód | D3: Popis | E3: MJ | F3: Množstvo ZoD | G3: J.cena [EUR] | H3: J.cena [EUR] dodatok č.1 | I3: ZoD cena celkom | J3: realizovaná výmera | K3: Cena reálna výmera
A4: Náklady z rozpočtu | I4: =I5+I30 -> 64726.139 | K4: =K5+K30 -> 63406.546
B5: D | C5: HSV | D5: Práce a dodávky HSV | I5: =I6+I8+I15+I28+I12 -> 47755.224 | K5: =K6+K8+K15+K28+K12 -> 43742.896
B6: D | C6: 1 | D6: Zemné práce | I6: =SUM(I7) -> 102.5 | K6: =SUM(K7) -> 102.5
A7: 1 | B7: K | C7: 111101101 | D7: Odstránenie náletových drevín vrátane odvozu na skladku | E7: m2 | F7: 410 | G7: 0.25 | H7: 0.25 | I7: 102.5 | J7: 410 | K7: =J7*H7 -> 102.5
B8: D | C8: 2 | D8: Zakladanie | I8: =SUM(I9:I11) -> 440.6 | K8: =SUM(K9:K11) -> 2448.9
A9: 99 | B9: K | C9: 275313611.S | D9: Betón základových pätiek, prostý tr. C 16/20 ,, 24x3x0,3 ,, 6x2x0,3 doska tribuna + chodník | E9: m3 | F9: 2 | G9: 85 | H9: 85 | I9: =F9*G9 -> 170 | J9: 25.2 | K9: =J9*H9 -> 2142 | L9: =K9-I9 -> 1972
A10: 100 | B10: K | C10: 275351215.S | D10: Debnenie stien základových pätiek, zhotovenie-dielce ,,45x0,5 ,, 6x0,45x2 | E10: m2 | F10: 24.6 | G10: 8 | H10: 8 | I10: =F10*G10 -> 196.8 | J10: 27.9 | K10: =J10*H10 -> 223.2 | L10: =K10-I10 -> 26.4
A11: 101 | B11: K | C11: 275351216.S | D11: Debnenie stien základovýcb pätiek, odstránenie-dielce | E11: m2 | F11: 24.6 | G11: 3 | H11: 3 | I11: =F11*G11 -> 73.8 | J11: 27.9 | K11: =J11*H11 -> 83.7 | L11: =K11-I11 -> 9.9
B12: D | C12: 5 | D12: Športový povrch | I12: =SUM(I13:I14) -> 24795 | K12: =SUM(K13:K14) -> 24795
A13: 129 | B13: K | C13: 589110031.S | D13: Podklad pod športové povrchy športovísk odpružený z gumoasfaltu hrúbky 35 mm | E13: m2 | F13: 855 | G13: 10 | H13: 10 | I13: 8550 | J13: 855 | K13: =J13*H13 -> 8550
A14: 127 | B14: K | C14: 589160021.S | D14: Športový povrch multifunkčný z EPDM 10 mm | E14: m2 | F14: 855 | G14: 19 | H14: 19 | I14: 16245 | J14: 855 | K14: =J14*H14 -> 16245
B15: D | C15: 9 | D15: Ostatné konštrukcie a práce-búranie | I15: =SUM(I16:I27) -> 21368.324 | K15: =SUM(K16:K27) -> 15347.696
A16: 128 | B16: K | C16: 919733111.S | D16: Úprava povrchu asfaltového krytu brúsením - frézovaním hr.od 10 do 50 mm -5% | E16: m2 | F16: 855 | G16: 16.5 | H16: 16.5 | I16: =F16*G16 -> 14107.5 | J16: 855 | K16: =J16*H16 -> 14107.5
A17: 63 | B17: K | C17: 915711110r | D17: Čiarovanie pre šport - tenis (čiara na betónovú stenu) | E17: m | F17: 22.988 | G17: 2 | H17: 2 | I17: =F17*G17 -> 45.976 | J17: 22.988 | K17: =J17*H17 -> 45.976
A18: 64 | B18: K | C18: 915711112r | D18: Čiarovanie pre šport - tenis (čiarovanie na zem) | E18: m | F18: 218.74 | G18: 2 | H18: 2 | I18: =F18*G18 -> 437.48 | J18: 218.74 | K18: =J18*H18 -> 437.48
A19: 65 | B19: K | C19: 915711113r | D19: Čiarovanie pre šport - basketbal (čiarovanie na zem) | E19: m | F19: 296.87 | G19: 2 | H19: 2 | I19: =F19*G19 -> 593.74 | J19: 296.87 | K19: =J19*H19 -> 593.74
A20: 66 | B20: K | C20: 915711114r | D20: Čiarovanie pre šport - volejbal (čiarovanie na zem) | E20: m | F20: 81.5 | G20: 2 | H20: 2 | I20: =F20*G20 -> 163 | J20: 81.5 | K20: =J20*H20 -> 163
D21: Búranie základov z betónu prostého alebo preloženého kameňom, -2,20000t | E21: m3 | F21: 15.164 | G21: 10 | H21: 10 | I21: =F21*G21 -> 151.64 | J21: 0 | K21: =J21*H21 -> 0 | L21: =K21-I21 -> -151.64
B22: K | D22: Búranie muriva železobetónového nadzákladového 2,1 t | E22: m3 | F22: 73.053 | G22: 12 | H22: 12 | I22: =F22*G22 -> 876.636 | J22: 0 | K22: =J22*H22 -> 0 | L22: =K22-I22 -> -876.636
B23: K | D23: Odvoz sutiny a vybúraných hmôt na skládku do 1 km | E23: t | F23: 6.992 | G23: 6 | H23: 6 | I23: =F23*G23 -> 41.952 | J23: 0 | K23: =J23*H23 -> 0 | L23: =K23-I23 -> -41.952
B24: K | D24: Odvoz sutiny a vybúraných hmôt na skládku za každý daľší km (do 20 km) | E24: t | F24: 6188 | G24: 0.1 | H24: 0.1 | I24: =F24*G24 -> 618.8 | J24: 0 | K24: =J24*H24 -> 0 | L24: =K24-I24 -> -618.8
B25: K | D25: Vnútrostavenisková doprava sutiny a vybúraných hmôt | E25: t | F25: 309.4 | G25: 3 | H25: 3 | I25: =F25*G25 -> 928.2 | J25: 0 | K25: =J25*H25 -> 0 | L25: =K25-I25 -> -928.2
B26: K | D26: Vnútrostavenisková doprava sutiny a vybúraných hmôtza každých ďaľších 5 km | E26: t | F26: 3094 | G26: 0.4 | H26: 0.4 | I26: =F26*G26 -> 1237.6 | J26: 0 | K26: =J26*H26 -> 0 | L26: =K26-I26 -> -1237.6
B27: K | D27: Poplatok za skladovanie - betón, tehly, dlaždice (17 01), ostatné | E27: t | F27: 309.4 | G27: 7 | H27: 7 | I27: =F27*G27 -> 2165.8 | J27: 0 | K27: =J27*H27 -> 0 | L27: =K27-I27 -> -2165.8
B28: D | C28: 99 | D28: Presun hmôt HSV | I28: =SUM(I29) -> 1048.8 | K28: =SUM(K29) -> 1048.8
A29: 80 | B29: K | C29: 998223011 | D29: Presun hmôt pre pozemné komunikácie s krytom dláždeným (822 2.3, 822 5.3) akejkoľvek dĺžky objektu | E29: t | F29: 6.992 | G29: 150 | H29: 150 | I29: 1048.8 | J29: 6.992 | K29: =J29*H29 -> 1048.8
B30: D | C30: PSV | D30: Práce a dodávky PSV | I30: =I31+I32 -> 16970.915 | K30: =K31+K32 -> 19663.65
B31: K | D31: M+D Stĺpiky pre volejbalovú a tenisovú sieť(vrátane kotvenia do nových základov, základy vykázané samostatne) | E31: ks | F31: 2 | G31: 100 | H31: 100 | I31: =G31*F31 -> 200 | J31: 0 | K31: =J31*H31 -> 0 | L31: =K31-I31 -> -200
B32: D | C32: 767 | D32: Konštrukcie doplnkové kovové | I32: =SUM(I33:I41) -> 16770.915 | K32: =SUM(K33:K41) -> 19663.65
A33: 81 | B33: K | C33: 7671611090 | D33: M+D Lavička na sedenie s prestrešením, hlavný rám J50/30/4mm dl.4290(39ks) zavetrenie J30/30/4mm(4x38ks), sedenie dub hobľovaný 30x80mm(8x38xdl.500mm), prestrešenie dub hobľovaný 30x80mm (16x38xdl.500mm), vrátane kotvenia závit. tyčou R12 zapustenou 200mm | E33: ks | F33: 1 | G33: 2000 | H33: 2000 | I33: =F33*G33 -> 2000 | J33: 1 | K33: =J33*H33 -> 2000
A34: 82 | B34: K | C34: 7671611101 | D34: M+D Oceľové zábradlie z galvanizovanej ocele výšky 1,1m, madlo R50mm, výplň farebné plexisklo hr.8mm, stĺpiky J50/30/3 á 1,027m, kotvene do múrika cez chem. kotvy (závitová tyč R8 21x4ks) | E34: m | F34: 20.6 | G34: 315 | H34: 315 | I34: =F34*G34 -> 6489 | J34: 26.5 | K34: =J34*H34 -> 8347.5 | L34: =K34-I34 -> 1858.5
A35: 83 | B35: K | C35: 7679111301r | D35: M+D Oplotenie hracej plochy na betónovom múriku výšky 1,4m, stĺpiky z galvanizovanej ocele F63/2,5mm (á 3,62 resp á 3,181m spolu 9ks stĺpikov), zavetrenie F48/2,5mm, výplň z PP siete 3mm, veľkosť oka 45x45mm (cca 38m2 siete), vrátane kotvenia | E35: m | F35: 26.763 | G35: 55 | H35: 55 | I35: =F35*G35 -> 1471.965 | J35: 44 | K35: =J35*H35 -> 2420 | L35: =K35-I35 -> 948.035
A36: 84 | B36: K | C36: 7679111302r | D36: M+D Oplotenie hracej plochy výšky 4,0m, stĺpiky z galvanizovanej ocele F63/2,5mm (spolu 31ks stĺpikov), zavetrenie F48/2,5mm, výplň z PP siete 3mm, veľkosť oka 45x45mm (cca 360m2 siete), vrátane kotvenia (pozn.- betónový základ vykázaný samostatne) | E36: m | F36: 89.93 | G36: 55 | H36: 55 | I36: =F36*G36 -> 4946.15 | J36: 89.93 | K36: =J36*H36 -> 4946.15
A37: 85 | B37: K | C37: 7679111303r | D37: M+D Vstupná otváravá bránka osadená v oplotení výšky 4,0m (osadenie medzi stĺpikmi oplotenia), bránka 2-krídlová výška 2400mm x šírka 1500+1500mm, nad bránkou prebiehjúce oplotenie na výšku 1600mm (výplň PP sieť) | E37: ks | F37: 1 | G37: 1000 | H37: 1000 | I37: =F37*G37 -> 1000 | J37: 1 | K37: =J37*H37 -> 1000
A38: 86 | B38: K | C38: 767914840 | D38: Demontáž oplotenia pletivového na jestv. múrikoch výšky do 2m vrátane demontáže oceľových stĺpikov, do suti | E38: m | F38: 26.76 | G38: 5 | H38: 5 | I38: =F38*G38 -> 133.8 | J38: 44 | K38: =J38*H38 -> 220 | L38: =K38-I38 -> 86.2
A39: 87 | B39: K | C39: 767914841 | D39: Demontáž oplotenia pletivového výšky do 4m vrátane demontáže oceľových stĺpikov, do suti | E39: m | F39: 91 | G39: 5 | H39: 5 | I39: =F39*G39 -> 455 | J39: 91 | K39: =J39*H39 -> 455
A40: 88 | B40: K | C40: 767996803 | D40: Demontáž ostatných doplnkov stavieb s hmotnosťou jednotlivých dielov konšt. do 250 kg, -0,00100t | E40: kg | F40: 500 | G40: 0.25 | H40: 0.25 | I40: =F40*G40 -> 125 | J40: 500 | K40: =J40*H40 -> 125
A41: 89 | B41: K | C41: 998767201 | D41: Presun hmôt pre kovové stavebné doplnkové konštrukcie v objektoch výšky do 6 m | E41: % | F41: 1 | G41: 150 | H41: 150 | I41: =F41*G41 -> 150 | J41: 1 | K41: =J41*H41 -> 150
...

Sheet Múr
A1: PČ | B1: Typ | C1: Kód | D1: Popis | E1: MJ | F1: Množstvo ZoD | G1: realizovaná - realna výmera | H1: J.cena [EUR] | I1: J.cena [EUR] dodatok č.1 | J1: Cena celkom [EUR] množstvo ZoD | K1: Cena celkom [EUR] reálna výmera | L1: faktura č.1 , | M1: faktura č.2 ,
A2: Náklady z rozpočtu | J2: =J3+J49 -> 39528.498 | K2: =K3+K49 -> 62630.054 | L2: =L3+L49 -> 44172.029 | M2: =M3+M49 -> 18458.025
B3: D | C3: HSV | D3: Práce a dodávky HSV | J3: =J4+J20+J30+J36+J42+J47 -> 38846.687 | K3: =K4+K20+K30+K36+K42+K47 -> 61948.244 | L3: =L4+L20+L30+L36+L42+L47 -> 43490.818 | M3: =M4+M20+M30+M36+M42+M47 -> 18457.426
B4: D | C4: 1 | D4: Zemné práce | J4: =SUM(J5:J19) -> 2314.437 | K4: =SUM(K5:K19) -> 3012.981 | L4: =SUM(L5:L19) -> 2288.035 | M4: =SUM(M5:M19) -> 724.946
A5: 8 | B5: K | C5: 132201101 | D5: Výkop ryhy do šírky 600 mm v horn.3 do 100 m3 | E5: m3 | F5: 5.2 | G5: 5.2 | H5: 4 | I5: 4 | J5: =F5*H5 -> 20.8 | K5: =G5*I5 -> 20.8 | L5: =H5*F5 -> 20.8 | M5: =K5-L5 -> 0
A6: 9 | B6: K | C6: 132201109 | D6: Príplatok k cene za lepivosť pri hĺbení rýh šírky do 600 mm zapažených i nezapažených s urovnaním dna v hornine 3 | E6: m3 | F6: 5.2 | G6: 5.2 | H6: 4 | I6: 4 | J6: =F6*H6 -> 20.8 | K6: =G6*I6 -> 20.8 | L6: =H6*F6 -> 20.8 | M6: =K6-L6 -> 0
A7: 10 | B7: K | C7: 132201201 | D7: Výkop ryhy šírky 600-2000mm horn.3 do 100m3 ,,,, 24x3x0,45 tribuna ,, 24x3x2/3svah tvárnice roširenie , zrovnanie a zhutnenie paty svahu ,,strojovo | E7: m3 | F7: 16.896 | G7: 80.4 | H7: 7 | I7: 7 | J7: =F7*H7 -> 118.272 | K7: =G7*I7 -> 562.8 | L7: =H7*F7 -> 118.272 | M7: =K7-L7 -> 444.528 | N7: =K7-J7 -> 444.528
A8: 11 | B8: K | C8: 132201209 | D8: Príplatok k cenám za lepivosť pri hĺbení rýh š. nad 600 do 2 000 mm zapaž. i nezapažených, s urovnaním dna v hornine 3 | E8: m3 | F8: 16.896 | G8: =G7 -> 80.4 | H8: 4 | I8: 4 | J8: =F8*H8 -> 67.584 | K8: =G8*I8 -> 321.6 | L8: =H8*F8 -> 67.584 | M8: =K8-L8 -> 254.016 | N8: =K8-J8 -> 254.016
A9: 12 | B9: K | C9: 132211101 | D9: Hĺbenie rýh šírky do 600 mm v hornine tr.3 súdržných - ručným náradím ,, 58x0,65x1,15D ,, 12x0,65x1,25D ,, 52x0,6x1Z ,, 17x0,65x1,15D,, 24x1,15x0,65D ,, 18x0,65x1,15D ,, | E9: m3 | F9: 2.1 | G9: 2.1 | H9: 88.25 | I9: 88.25 | J9: =F9*H9 -> 185.325 | K9: =G9*I9 -> 185.325 | L9: =H9*F9 -> 185.325 | M9: =K9-L9 -> 0
A10: 13 | B10: K | C10: 162201102 | D10: Vodorovné premiestnenie výkopku z horniny 1-4 nad 20-50m ,,real 0 až 80m ručne , 85% výkopov - ostatné je zaustovacie ryhy a čast tribuny | E10: m3 | F10: 22.096 | G10: 22.096 | H10: 44.5 | I10: 44.5 | J10: =F10*H10 -> 983.272 | K10: =G10*I10 -> 983.272 | L10: =H10*F10 -> 983.272 | M10: =K10-L10 -> 0
A11: 17 | B11: K | C11: 174101102 | D11: Zásyp sypaninou v uzavretých priestoroch s urovnaním povrchu zásypu ,, ručne svah 22x3,7x3,5/2 | E11: m3 | F11: 22.096 | G11: 22.096 | H11: 35.25 | I11: 35.25 | J11: =F11*H11 -> 778.884 | K11: =G11*I11 -> 778.884 | L11: =H11*F11 -> 778.884 | M11: =K11-L11 -> 0
A12: 18 | B12: K | C12: 180406111 | D12: Založenie trávnika parkového mačinovaním v rovine alebo na svahu do 1:5 | E12: m2 | F12: 50 | G12: 50 | H12: 0.25 | I12: 0.25 | J12: =F12*H12 -> 12.5 | K12: =G12*I12 -> 12.5 | L12: =F12*H12 -> 12.5 | M12: =K12-L12 -> 0
A13: 19 | B13: M | C13: 0057211200 | D13: Trávové semeno - parková zmes | E13: kg | F13: 1.5 | G13: 1.5 | H13: 1 | I13: 1 | J13: =F13*H13 -> 1.5 | K13: =G13*I13 -> 1.5 | L13: =F13*H13 -> 1.5 | M13: =K13-L13 -> 0
A14: 20 | B14: K | C14: 183403114 | D14: Obrobenie pôdy kultivátorovaním v rovine alebo na svahu do 1:5 | E14: m2 | F14: 50 | G14: 50 | H14: 0.5 | I14: 0.5 | J14: =F14*H14 -> 25 | K14: =G14*I14 -> 25 | L14: =F14*H14 -> 25 | M14: =K14-L14 -> 0
A15: 21 | B15: K | C15: 183403153 | D15: Obrobenie pôdy hrabaním v rovine alebo na svahu do 1:5 | E15: m2 | F15: 50 | G15: 50 | H15: 0.5 | I15: 0.5 | J15: =F15*H15 -> 25 | K15: =G15*I15 -> 25 | L15: =F15*H15 -> 25 | M15: =K15-L15 -> 0
A16: 22 | B16: K | C16: 183403161 | D16: Obrobenie pôdy valcovaním v rovine alebo na svahu do 1:5 | E16: m2 | F16: 50 | G16: 50 | H16: 0.5 | I16: 0.5 | J16: =F16*H16 -> 25 | K16: =G16*I16 -> 25 | L16: =F16*H16 -> 25 | M16: =K16-L16 -> 0
A17: 23 | B17: K | C17: 184802111 | D17: Chemické odburinenie pôdy v rovine alebo na svahu do 1:5 postrekom naširoko | E17: m2 | F17: 50 | G17: 50 | H17: 0.5 | I17: 0.5 | J17: =F17*H17 -> 25 | K17: =G17*I17 -> 25 | L17: 0 | M17: =K17-L17 -> 25
A18: 24 | B18: K | C18: 185803111 | D18: Ošetrenie trávnika v rovine alebo na svahu do 1:5 | E18: m2 | F18: 50 | G18: 50 | H18: 0.5 | I18: 0.5 | J18: =F18*H18 -> 25 | K18: =G18*I18 -> 25 | L18: 23.598 | M18: =K18-L18 -> 1.402
A19: 25 | B19: K | C19: 185851111 | D19: Dovoz vody pre zálievku rastlín na vzdialenosť do 6000 m | E19: m3 | F19: 0.5 | G19: 0.5 | H19: 1 | I19: 1 | J19: =F19*H19 -> 0.5 | K19: =G19*I19 -> 0.5 | L19: 0.5 | M19: =K19-L19 -> 0
B20: D | C20: 2 | D20: Zakladanie | J20: =SUM(J21:J29) -> 15812.91 | K20: =SUM(K21:K29) -> 15759.15 | L20: =SUM(L21:L29) -> 15138.67 | M20: =SUM(M21:M29) -> 620.48
A21: 26 | B21: K | C21: 211561111 | D21: Výplň odvodňovacieho rebra alebo trativodu do rýh kamenivom hrubým drveným frakcie 16-32 mm,, | E21: m3 | F21: 8.619 | G21: 8.619 | H21: 215 | I21: 215 | J21: =F21*H21 -> 1853.085 | K21: =G21*I21 -> 1853.085 | L21: =F21*H21 -> 1853.085 | M21: =K21-L21 -> 0
A22: 27 | B22: K | C22: 211971121 | D22: Zhotov. oplášt. výplne z geotext. v ryhe alebo v záreze pri rozvinutej šírke oplášt. od 0 do 2, 5 m ,, 129x3 | E22: m2 | F22: 16.8 | G22: 0 | H22: 2 | I22: 2 | J22: =F22*H22 -> 33.6 | K22: =G22*I22 -> 0 | L22: =F22*H22 -> 33.6 | M22: =K22-L22 -> -33.6 | N22: =K22-J22 -> -33.6
A23: 92 | B23: M | C23: 693110004710 | D23: Geotextília polypropylénová netkaná Typar SF 40, š. 2100 mm, dĺ. 150 m, 100% polypropylén, netkaná, vhodná na filtráciu, stabilizáciu pôdy a separačnú vrstvu , parkovacie plochy, lesné cesty | E23: m2 | F23: 20.16 | G23: 0 | H23: 1 | I23: 1 | J23: =F23*H23 -> 20.16 | K23: =G23*I23 -> 0 | L23: =F23*H23 -> 20.16 | M23: =K23-L23 -> -20.16 | N23: =K23-J23 -> -20.16
A24: 29 | B24: K | C24: 212572121 | D24: Lôžko pre trativod z kameniva drobného ťaženého | E24: m3 | F24: 2.041 | G24: 2.041 | H24: 75 | I24: 75 | J24: =F24*H24 -> 153.075 | K24: =G24*I24 -> 153.075 | L24: =F24*H24 -> 153.075 | M24: =K24-L24 -> 0
A25: 30 | B25: K | C25: 212755117 | D25: Trativod z drenážnych rúrok bez lôžka, vnútorného priem. rúrok 180 mm, vrátane obalenia geotextíliou | E25: m | F25: 34.2 | G25: 34.2 | H25: 300 | I25: 300 | J25: =F25*H25 -> 10260 | K25: =G25*I25 -> 10260 | L25: =F25*H25 -> 10260 | M25: =K25-L25 -> 0
A26: 94 | B26: K | C26: 274321311.S | D26: Betón základových pásov, železový (bez výstuže), tr. C 16/20 ,, svah + rebrá + veniec op. Múr | E26: m3 | F26: 20.496 | G26: 20.496 | H26: 75 | I26: 75 | J26: =F26*H26 -> 1537.2 | K26: =G26*I26 -> 1537.2 | L26: =H26*F26 -> 1537.2 | M26: =K26-L26 -> 0
A27: 33 | B27: K | C27: 274351215 | D27: Debnenie stien základových pásov, zhotovenie-dielce | E27: m2 | F27: 92.16 | G27: 92.16 | H27: 12 | I27: 12 | J27: =F27*H27 -> 1105.92 | K27: =G27*I27 -> 1105.92 | L27: 528 | M27: =K27-L27 -> 577.92
A28: 34 | B28: K | C28: 274351216 | D28: Debnenie stien základových pásov, odstránenie-dielce | E28: m2 | F28: 92.16 | G28: 92.16 | H28: 2 | I28: 2 | J28: =F28*H28 -> 184.32 | K28: =G28*I28 -> 184.32 | L28: 88 | M28: =K28-L28 -> 96.32
A29: 96 | B29: K | C29: 274361821.S | D29: Výstuž základových pásov a nadzáklad.múrov z ocele B500 (10505) | E29: t | F29: 0.783 | G29: 0.783 | H29: 850 | I29: 850 | J29: =F29*H29 -> 665.55 | K29: =G29*I29 -> 665.55 | L29: 665.55 | M29: =K29-L29 -> 0
B30: D | C30: 3 | D30: Zvislé a kompletné konštrukcie | J30: =SUM(J31:J35) -> 994.44625 | K30: =SUM(K31:K35) -> 1006.6525 | L30: =SUM(L31:L35) -> 4912.653 | M30: =SUM(M31:M35) -> -3906.0005
A31: 126 | B31: K | C31: 311272011.S | D31: Murivo nosné (m3) z betónových debniacich tvárnic s betónovou výplňou C 16/20 hrúbky 150 mm ,, 25x1x0,15 ,, 24x0,75x0,15 ,, 3x2x0,15x2 | E31: m3 | F31: 0.225 | G31: 0.25 | H31: 488.25 | I31: 488.25 | J31: =F31*H31 -> 109.85625 | K31: =G31*I31 -> 122.0625 | L31: 4028.063 | M31: =K31-L31 -> -3906.0005 | N31: =K31-J31 -> 12.20625
A32: 95 | B32: K | C32: 311321311.S | D32: Betón nadzákladových múrov, železový (bez výstuže) tr. C 16/20 | E32: m3 | F32: 5.775 | G32: 5.775 | H32: 70 | I32: 70 | J32: =F32*H32 -> 404.25 | K32: =G32*I32 -> 404.25 | L32: =F32*H32 -> 404.25 | M32: =K32-L32 -> 0
A33: 97 | B33: K | C33: 311351105.S | D33: Debnenie nadzákladových múrov obojstranné zhotovenie-dielce | E33: m2 | F33: 32.97 | G33: 32.97 | H33: 10 | I33: 10 | J33: =F33*H33 -> 329.7 | K33: =G33*I33 -> 329.7 | L33: =F33*H33 -> 329.7 | M33: =K33-L33 -> 0
A34: 98 | B34: K | C34: 311351106.S | D34: Debnenie nadzákladových múrov obojstranné odstránenie-dielce | E34: m2 | F34: 32.97 | G34: 32.97 | H34: 2 | I34: 2 | J34: =F34*H34 -> 65.94 | K34: =G34*I34 -> 65.94 | L34: =F34*H34 -> 65.94 | M34: =K34-L34 -> 0
A35: 45 | B35: K | C35: 311362021 | D35: Výstuž nadzákladových múrov, stien a priečok zo zváraných sietí KARI 100x100x6x6 mm | E35: t | F35: 0.077 | G35: 0.077 | H35: 1100 | I35: 1100 | J35: =F35*H35 -> 84.7 | K35: =G35*I35 -> 84.7 | L35: =F35*H35 -> 84.7 | M35: =K35-L35 -> 0
B36: D | C36: 4 | D36: Vodorovné konštrukcie | J36: =SUM(J37:J41) -> 19258.76 | K36: =SUM(K37:K41) -> 40988.16 | L36: =SUM(L37:L41) -> 19258.76 | M36: =SUM(M37:M41) -> 21729.4
A37: 51 | B37: K | C37: 411121122 | D37: Montáž prefabrikovaného betónovej tvárnice pre vytvorenie oporného múru (výpň zemina vykázaná samostatne) vrátane zhutnenia podložia, osadenia prvého radu na 10cm hr. vrstvu vlhkého betónu s výškovým zarovnaním (refer. PREMAC VARIOFLOR) | E37: ks | F37: 268 | G37: 576 | H37: 43 | I37: 43 | J37: =F37*H37 -> 11524 | K37: =G37*I37 -> 24768 | L37: =H37*F37 -> 11524 | M37: =K37-L37 -> 13244 | N37: =K37-J37 -> 13244
A38: 52 | B38: M | C38: 5921958840 | D38: Dodávka prefabrikovanej betónovej tvárnice (refer. Premac VARIOFLOR) | E38: ks | F38: 268 | G38: 576 | H38: 27.55 | I38: 27.55 | J38: =F38*H38 -> 7383.4 | K38: =G38*I38 -> 15868.8 | L38: =H38*F38 -> 7383.4 | M38: =K38-L38 -> 8485.4 | N38: =K38-J38 -> 8485.4
A39: 53 | B39: K | C39: 434311115 | D39: Stupne dusané na terén alebo dosku z betónu bez poteru, so zahladením povrchu tr. C 16/20 pod svah. Tva | E39: m | F39: 18.3 | G39: 18.3 | H39: 12 | I39: 12 | J39: =F39*H39 -> 219.6 | K39: =G39*I39 -> 219.6 | L39: =F39*H39 -> 219.6 | M39: =K39-L39 -> 0
A40: 54 | B40: K | C40: 434351141 | D40: Debnenie stupňov na podstupňovej doske alebo na teréne pôdorysne priamočiarych zhotovenie | E40: m2 | F40: 10.98 | G40: 10.98 | H40: 10 | I40: 10 | J40: =F40*H40 -> 109.8 | K40: =G40*I40 -> 109.8 | L40: =F40*H40 -> 109.8 | M40: =K40-L40 -> 0
...

Sheet Rekapitulácia
A3: REKAPITULÁCIA
A4: Stavba: | C4: Zariadenie sociálnych služieb a špecializované zariadenie Dúbravka-Hlavica | D4: Rekonštrukcia športoviska na Ladzianskeho ulici
A5: Zhotoviteľ: | D5: DEBRA BA, s.r.o. , Bratislava
A7: P.č. | B7: Typ | C7: Kód objektu | D7: Názov objektu | E7: JKSO | F7: suma ZoD | G7: reálne výmery suma | H7: Opočet | I7: Prípočet | J7: úspora resp. navýšenie v jedn. oddieloch rozpočtu
A8: 1. | B8: Č | C8: pavl1AO1 | D8: Rekonštrukcia OM | F8: =Múr!J2 -> 39528.498 | G8: =Múr!K2 -> 62630.054 | H8: =Múr!N62 -> -204.82 | I8: =Múr!N63 -> 23306.376 | J8: =G8-F8 -> 23101.556
A9: 2 | B9: Č | C9: pavl1AO02 | D9: Rekonštrukcia multifunčného ihriska | F9: =Ihrisko!I4 -> 64726.139 | G9: =Ihrisko!K4 -> 63406.546 | H9: =Ihrisko!L43 -> -6220.628 | I9: =Ihrisko!L44 -> 4901.035 | J9: =G9-F9 -> -1319.593
A10: 3 | B10: Č | C10: pavl1AO2z | D10: Odvodnenie | F10: =Odvodnenie!J3 -> 26340.941 | G10: =Odvodnenie!K3 -> 51970.66 | H10: =Odvodnenie!L51 -> -22406.441 | I10: =Odvodnenie!L52 -> 48036.16 | J10: =G10-F10 -> 25629.719
B11: Č | C11: pavl1AO08 | D11: SPOLU | F11: =SUM(F8:F10) -> 130595.58 | G11: =SUM(G8:G10) -> 178007.26 | H11: =SUM(H8:H10) -> -28831.889 | I11: =SUM(I8:I10) -> 76243.571 | J11: =SUM(J8:J10) -> 47411.682
A12: 11. | B12: Č | C12: pavl1AO8z
